BEGIN:VCALENDAR
VERSION:2.0
PRODID:-//www.mostviertelevents.at - ECPv6.0.4//NONSGML v1.0//EN
CALSCALE:GREGORIAN
METHOD:PUBLISH
X-ORIGINAL-URL:https://www.mostviertelevents.at
X-WR-CALDESC:Veranstaltungen für www.mostviertelevents.at
REFRESH-INTERVAL;VALUE=DURATION:PT1H
X-Robots-Tag:noindex
X-PUBLISHED-TTL:PT1H
BEGIN:VTIMEZONE
TZID:Europe/Berlin
BEGIN:DAYLIGHT
TZOFFSETFROM:+0100
TZOFFSETTO:+0200
TZNAME:CEST
DTSTART:20250330T010000
END:DAYLIGHT
BEGIN:STANDARD
TZOFFSETFROM:+0200
TZOFFSETTO:+0100
TZNAME:CET
DTSTART:20251026T010000
END:STANDARD
END:VTIMEZONE
BEGIN:VEVENT
DTSTART;TZID=Europe/Berlin:20251128T193000
DTEND;TZID=Europe/Berlin:20251128T193000
DTSTAMP:20260421T121036
CREATED:20241212T093847Z
LAST-MODIFIED:20250922T071021Z
UID:1587-1764358200-1764358200@www.mostviertelevents.at
SUMMARY:Tiroler Bergweihnacht 2025 | Zwettl (NÖ)
DESCRIPTION:Folgende Künstler sind dabei:\n\nDie Grubertaler\nBrennholz die Band\nDie Mayrhofner\n\nInformationen:\nWann: 28. November 2025 Beginn: 19:30 Einlass: ab 18:00 Uhr Wo: 3910 Zwettl (NÖ) Stadthalle\, Stadthallenplatz 1 \nKVV:\n\n\nOnline bei Ö-Ticket (Registrierung)\n\nAlle Banken und Trafiken mit Ö-Ticket-Anschluss
URL:https://www.mostviertelevents.at/event/tiroler-bergweihnacht-2025-zwettl-noe/
LOCATION:Messe Wieselburg\, NV-Forum\, Neue Halle 3\, Wieselburg\, 3250\, Österreich
ATTACH;FMTTYPE=image/jpeg:https://www.mostviertelevents.at/wp-content/uploads/2024/12/Flyer-2025.jpg
ORGANIZER;CN="Christian%20Jochinger%20%2B%20Hans%20Heiland":MAILTO:mostviertelevents@wibs.at, hansheiland@wibs.at
END:VEVENT
END:VCALENDAR